BEGIN:VCALENDAR
PRODID:-//eluceo/ical//2.0/EN
VERSION:2.0
CALSCALE:GREGORIAN
BEGIN:VEVENT
UID:897ba40e4f02aec1b2901ddfc4fd010c
DTSTAMP:20260424T152224Z
SUMMARY:Lions & Poms Luncheon
DESCRIPTION:Shaw JCC of Akron\nCalendar\nhttps://shawjcc.org/calendar/lions
 -poms-luncheon-341260\n\nLuncheon
DTSTART;TZID=America/New_York:20200519T113000
DTEND;TZID=America/New_York:20200519T140000
END:VEVENT
END:VCALENDAR
