BEGIN:VCALENDAR
PRODID:-//eluceo/ical//2.0/EN
VERSION:2.0
CALSCALE:GREGORIAN
BEGIN:VEVENT
UID:d1fa01a3caca9e1943718ec734e410aa
DTSTAMP:20260423T000103Z
SUMMARY:Lippman Art Show & Band Concert
DESCRIPTION:Shaw JCC of Akron\nCalendar\nhttps://shawjcc.org/calendar/lippm
 an-art-show-band-concert-436156\n\n.
DTSTART;TZID=America/New_York:20230523T180000
DTEND;TZID=America/New_York:20230523T200000
END:VEVENT
END:VCALENDAR
