BEGIN:VCALENDAR
PRODID:-//eluceo/ical//2.0/EN
VERSION:2.0
CALSCALE:GREGORIAN
BEGIN:VEVENT
UID:ebaf906e91fee87ca7f960d5ebcb6245
DTSTAMP:20260425T031706Z
SUMMARY:Lippman Back to School Picnic
DESCRIPTION:Shaw JCC of Akron\nCalendar\nhttps://shawjcc.org/calendar/lippm
 an-back-to-school-picnic-318074\n\nLippman Back to School Barbecue for fam
 ilies\n\nSunday\, August 25\, 2019\n\nBack Camp Pavilion
DTSTART;TZID=America/New_York:20190825T130000
DTEND;TZID=America/New_York:20190825T170000
END:VEVENT
END:VCALENDAR
