BEGIN:VCALENDAR
PRODID:-//eluceo/ical//2.0/EN
VERSION:2.0
CALSCALE:GREGORIAN
BEGIN:VEVENT
UID:655cf8e43d0ce5cfc9654cde0b9e309b
DTSTAMP:20260423T023440Z
SUMMARY:Lippman Board Meeting
DESCRIPTION:Shaw JCC of Akron\nCalendar\nhttps://shawjcc.org/calendar/lippm
 an-board-meeting-3-198709\n\nBoard of Trustees meeting. Will be held in JC
 BA Board room
DTSTART;TZID=America/New_York:20170406T174500
DTEND;TZID=America/New_York:20170406T190000
END:VEVENT
END:VCALENDAR
