BEGIN:VCALENDAR
PRODID:-//eluceo/ical//2.0/EN
VERSION:2.0
CALSCALE:GREGORIAN
BEGIN:VEVENT
UID:4766d6e5b503a3b267ade5c449da0062
DTSTAMP:20260422T125628Z
SUMMARY:Lippman Board Meeting
DESCRIPTION:Shaw JCC of Akron\nCalendar\nhttps://shawjcc.org/calendar/lippm
 an-brd-meeting--249423\n\nLippman Board of Trustees Meeting held in The Wo
 ll Family Center for Innovation.\n\nThursday\, May 17\, 2018 5:45 - 7:00 P
 M
DTSTART;TZID=America/New_York:20180517T174500
DTEND;TZID=America/New_York:20180517T190000
END:VEVENT
END:VCALENDAR
