BEGIN:VCALENDAR
PRODID:-//eluceo/ical//2.0/EN
VERSION:2.0
CALSCALE:GREGORIAN
BEGIN:VEVENT
UID:ee2bbdf109d3a6ba66c967701f5ace0b
DTSTAMP:20260421T154036Z
SUMMARY:Lippman Executive Board Meeting
DESCRIPTION:Shaw JCC of Akron\nCalendar\nhttps://shawjcc.org/calendar/lippm
 an-executive-board-meeting-316664\n\nLippman Executive Board Meeting\n\nWo
 ll Family Center\n\n5:45 - 7:00 PM
DTSTART;TZID=America/New_York:20191118T174500
DTEND;TZID=America/New_York:20191118T190000
END:VEVENT
END:VCALENDAR
