BEGIN:VCALENDAR
PRODID:-//eluceo/ical//2.0/EN
VERSION:2.0
CALSCALE:GREGORIAN
BEGIN:VEVENT
UID:7496789b98f01e121a5ad2769da6028a
DTSTAMP:20260421T192228Z
SUMMARY:Lippman Interfaith Passover Seder
DESCRIPTION:Shaw JCC of Akron\nCalendar\nhttps://shawjcc.org/calendar/lippm
 an-interfaith-passover-seder-1704916320-457417\n\nStudent-Parent Interfait
 h Passover Seder
DTSTART;TZID=America/New_York:20240416T180000
DTEND;TZID=America/New_York:20240416T200000
END:VEVENT
END:VCALENDAR
