BEGIN:VCALENDAR
PRODID:-//eluceo/ical//2.0/EN
VERSION:2.0
CALSCALE:GREGORIAN
BEGIN:VEVENT
UID:a10b1642e059b55748eb75b8bf4888ec
DTSTAMP:20260423T075333Z
SUMMARY:Lippman Open House
DESCRIPTION:Shaw JCC of Akron\nCalendar\nhttps://shawjcc.org/calendar/lippm
 an-open-house-288674\n\nPlease join us on Thursday\, November 8th from 9-1
 1:00 am for our Open House.\n\nDiscover the many opportunities for your ch
 ildre ages 5-8 grade at The Lippman School.\n\nFor more information call D
 ebbie Zelin at 330-835-0074\n\n 
DTSTART;TZID=America/New_York:20181108T090000
DTEND;TZID=America/New_York:20181108T110000
END:VEVENT
END:VCALENDAR
