BEGIN:VCALENDAR
PRODID:-//eluceo/ical//2.0/EN
VERSION:2.0
CALSCALE:GREGORIAN
BEGIN:VEVENT
UID:a3841986773811afa46254e47dc903dd
DTSTAMP:20260421T152416Z
SUMMARY:Lippman Play Matinee
DESCRIPTION:Shaw JCC of Akron\nCalendar\nhttps://shawjcc.org/calendar/lippm
 an-play-matinee-463870\n\n.
DTSTART;TZID=America/New_York:20240520T130000
DTEND;TZID=America/New_York:20240520T142000
END:VEVENT
END:VCALENDAR
