BEGIN:VCALENDAR
PRODID:-//eluceo/ical//2.0/EN
VERSION:2.0
CALSCALE:GREGORIAN
BEGIN:VEVENT
UID:1fd638bfc9abc371ca4e7df98b49d7ab
DTSTAMP:20260423T201236Z
SUMMARY:Lippman School First Day
DESCRIPTION:Shaw JCC of Akron\nCalendar\nhttps://shawjcc.org/calendar/lippm
 an-school-first-day-385804\n\n1st Day of School
DTSTART;TZID=America/New_York:20210825T080000
DTEND;TZID=America/New_York:20210825T150000
END:VEVENT
END:VCALENDAR
