BEGIN:VCALENDAR
PRODID:-//eluceo/ical//2.0/EN
VERSION:2.0
CALSCALE:GREGORIAN
BEGIN:VEVENT
UID:c708c07cafa81e23e884c945fd46db37
DTSTAMP:20260420T171152Z
SUMMARY:Lippman School Kindergarten Celebration
DESCRIPTION:Shaw JCC of Akron\nCalendar\nhttps://shawjcc.org/calendar/lippm
 an-school-kindergarten-celebration-1747929335-492422\n\nLippman School Kin
 dergarten Celebration
DTSTART;TZID=America/New_York:20250529T140000
DTEND;TZID=America/New_York:20250529T150000
END:VEVENT
END:VCALENDAR
