BEGIN:VCALENDAR
PRODID:-//eluceo/ical//2.0/EN
VERSION:2.0
CALSCALE:GREGORIAN
BEGIN:VEVENT
UID:75251e2f5ad9d50963e2f03522aa1530
DTSTAMP:20260421T220725Z
SUMMARY:Lippman School Play & Dinner
DESCRIPTION:Shaw JCC of Akron\nCalendar\nhttps://shawjcc.org/calendar/lippm
 an-school-play-dinner-402848\n\n.
DTSTART;TZID=America/New_York:20220518T170000
DTEND;TZID=America/New_York:20220518T203000
END:VEVENT
END:VCALENDAR
