BEGIN:VCALENDAR
PRODID:-//eluceo/ical//2.0/EN
VERSION:2.0
CALSCALE:GREGORIAN
BEGIN:VEVENT
UID:4f45e13d9fd053f24dc835e2727c424f
DTSTAMP:20260420T233551Z
SUMMARY:Lippman Usborne Book Fair
DESCRIPTION:Shaw JCC of Akron\nCalendar\nhttps://shawjcc.org/calendar/lippm
 an-usborne-book-fair-288756\n\nPlease come and browse the Lippman Usborne 
 Book Fair from Monday\, March 11th to Friday\, March 15th. \n\nThe Lippma
 n School first floor\n\nSo many books to enjoy and buy!
DTSTART;TZID=America/New_York:20190311T090000
DTEND;TZID=America/New_York:20190315T110000
END:VEVENT
END:VCALENDAR
