BEGIN:VCALENDAR
PRODID:-//eluceo/ical//2.0/EN
VERSION:2.0
CALSCALE:GREGORIAN
BEGIN:VEVENT
UID:b5f9ae1919a238a4824f73284a02433e
DTSTAMP:20260421T155328Z
SUMMARY:Lippman/ECE/Northern Cheyenne Bonfire and Havdallah
DESCRIPTION:Shaw JCC of Akron\nCalendar\nhttps://shawjcc.org/calendar/lippm
 anecenorthern-cheyenne-bonfire-and-havdallah-246626\n\nJoin The Lippman Sc
 hool\, Mandel ECE at the Shaw JCC\, and Northern Cheyenne nation tribal me
 mbers at the Shaw JCC pavilion for a bonfire and Havdalah service on Satu
 rday\, Oct. 7 at 7:30 p.m. The evening will include  Northern Cheyenne dr
 umming\, singing\, dancing\, and camp-out. Admission is free and open to t
 he community. Bring the whole family!
DTSTART;TZID=America/New_York:20171007T193000
DTEND;TZID=America/New_York:20171007T210000
END:VEVENT
END:VCALENDAR
