BEGIN:VCALENDAR
PRODID:-//eluceo/ical//2.0/EN
VERSION:2.0
CALSCALE:GREGORIAN
BEGIN:VEVENT
UID:3f32869928b07a293ea5475dfa36e0c9
DTSTAMP:20260425T115401Z
SUMMARY:Lippmanpalooza\, benefiting The Lippman School
DESCRIPTION:Shaw JCC of Akron\nCalendar\nhttps://shawjcc.org/calendar/lippm
 anpalooza-benefiting-the-lippman-school-1549418402-301040\n\nThis event wi
 ll feature a buffet dinner\, catered by Mustard Seed Market & Cafe\, cash 
 bar\, and live concerts by popular Akron bands DreamStates and the Ahi-Nam
 a Quintet\, and renowned Charlotte\, NC band\, Gigi Dover and The Big Love
 . This event is for ages 21 and over. Sponsorship opportunities are availa
 ble. Tickets can be purchased on Eventbrite or at The Lippman School. FOR 
 QUESTIONS ABOUT THIS EVENT\, PLEASE CONTACT ALISA REINBOLT at areinbolt@th
 elippmanschool.org
DTSTART;TZID=America/New_York:20190316T180000
DTEND;TZID=America/New_York:20190316T233000
END:VEVENT
END:VCALENDAR
