BEGIN:VCALENDAR
PRODID:-//eluceo/ical//2.0/EN
VERSION:2.0
CALSCALE:GREGORIAN
BEGIN:VEVENT
UID:b08cc1606170c72b641a30ab889274ed
DTSTAMP:20260422T060029Z
SUMMARY:Lippman's Menchies Fundraiser
DESCRIPTION:Shaw JCC of Akron\nCalendar\nhttps://shawjcc.org/calendar/lippm
 ans-menchies-fundraiser-307636\n\nPlease join us  at Menchies\, on Monday
 \, June 3\,  and Tuesday\, June 4. Time is 12-7pm.\n\nMenchie's Frozen Yo
 gurt is yogurt your way. You pick the flavors\, you pick the toppings - it
 's as simple as mix\, weigh and pay! Frozen Yogurt\, Frozen Yoghurt.\n\nWh
 at a great way to support the Lippman School!\n\n3737 West Market Street\n
 Fairlawn\, OH \n 
DTSTART;TZID=America/New_York:20190603T120000
DTEND;TZID=America/New_York:20190603T190000
END:VEVENT
END:VCALENDAR
