BEGIN:VCALENDAR
PRODID:-//eluceo/ical//2.0/EN
VERSION:2.0
CALSCALE:GREGORIAN
BEGIN:VEVENT
UID:2083b5199fb9efdf5d01517f081a4612
DTSTAMP:20260424T115216Z
SUMMARY:Major Donor Event for "better together"
DESCRIPTION:Shaw JCC of Akron\nCalendar\nhttps://shawjcc.org/calendar/major
 -donor-event-for-better-together-374740\n\nBetter Together Campaign Event 
 via Zoom
DTSTART;TZID=America/New_York:20210311T173000
DTEND;TZID=America/New_York:20210311T220000
END:VEVENT
END:VCALENDAR
