BEGIN:VCALENDAR
PRODID:-//eluceo/ical//2.0/EN
VERSION:2.0
CALSCALE:GREGORIAN
BEGIN:VEVENT
UID:f62c93549c584087e1e95a3de8f946ed
DTSTAMP:20260421T134741Z
SUMMARY:JCBA BOARD
DESCRIPTION:Shaw JCC of Akron\nCalendar\nhttps://shawjcc.org/calendar/meeti
 ng-jcba-198862\n\nMeeting
DTSTART;TZID=America/New_York:20170328T190000
DTEND;TZID=America/New_York:20170328T200000
END:VEVENT
END:VCALENDAR
