BEGIN:VCALENDAR
PRODID:-//eluceo/ical//2.0/EN
VERSION:2.0
CALSCALE:GREGORIAN
BEGIN:VEVENT
UID:fc5855af31de8e358c3186b6fe7c8852
DTSTAMP:20260423T202418Z
SUMMARY:Memory Keeping: Sharing & Recording Stories For The Next Generation
DESCRIPTION:Shaw JCC of Akron\nCalendar\nhttps://shawjcc.org/calendar/memor
 y-keeping-sharing--recording-stories-for-the-next-generation-1560886933-31
 4656\n\nJoin Natalie Bowman\, accomplished filmmaker and founder of Simply
  Told\, a tool to easily record video stories and preserve memories of sig
 nificant moments in someone’s life – whether that’s a story of survi
 ving the Holocaust\, emigrating from another country\, meeting a life part
 ner\, or remembering the day a child was born… As a member of the Jewish
  Genealogy Society\, Natalie understands the importance of passing down me
 mories to preserve them and will discuss the many different ways yo...
DTSTART;TZID=America/New_York:20190807T190000
DTEND;TZID=America/New_York:20190807T210000
END:VEVENT
END:VCALENDAR
