BEGIN:VCALENDAR
PRODID:-//eluceo/ical//2.0/EN
VERSION:2.0
CALSCALE:GREGORIAN
BEGIN:VEVENT
UID:9660c1b1012bfffbff36732f66704f45
DTSTAMP:20260423T043856Z
SUMMARY:Men's Annual Breakfast Raffle
DESCRIPTION:Shaw JCC of Akron\nCalendar\nhttps://shawjcc.org/calendar/mens-
 annual-breakfast-raffle-1689774500-443407\n\nMen's Annual Raffle for the b
 enefit of Anshe Sfard\n\nRaffle Tickets available at the syangogue 330-867
 -7292
DTSTART;TZID=America/New_York:20231119T100000
DTEND;TZID=America/New_York:20231119T120000
END:VEVENT
END:VCALENDAR
