BEGIN:VCALENDAR
PRODID:-//eluceo/ical//2.0/EN
VERSION:2.0
CALSCALE:GREGORIAN
BEGIN:VEVENT
UID:40bc6257e1551f39bafe3fab6e2f99d8
DTSTAMP:20260421T173813Z
SUMMARY:Meyer Paz Rolnick Bar Mitzvah
DESCRIPTION:Shaw JCC of Akron\nCalendar\nhttps://shawjcc.org/calendar/meyer
 -paz-rolnick-bar-mitzvah-1493221880-228675\n\nBar Mitzvah at Anshe Sfard
DTSTART;TZID=America/New_York:20180428T090000
DTEND;TZID=America/New_York:20180428T123000
END:VEVENT
END:VCALENDAR
