BEGIN:VCALENDAR
PRODID:-//eluceo/ical//2.0/EN
VERSION:2.0
CALSCALE:GREGORIAN
BEGIN:VEVENT
UID:1b2802f6b891e31138dee18a5aaf6a66
DTSTAMP:20260424T145550Z
SUMMARY:Mini Minyan
DESCRIPTION:Shaw JCC of Akron\nCalendar\nhttps://shawjcc.org/calendar/mini-
 minyanJan2018-249215\n\nMini Minyan is our Saturday Shabbat experience for
  families with those 5 and under. Join us for a morning of movement and si
 nging.
DTSTART;TZID=America/New_York:20180106T101500
DTEND;TZID=America/New_York:20180106T113000
END:VEVENT
END:VCALENDAR
