BEGIN:VCALENDAR
PRODID:-//eluceo/ical//2.0/EN
VERSION:2.0
CALSCALE:GREGORIAN
BEGIN:VEVENT
UID:d843d7ee61c8384fcaa69f817186213b
DTSTAMP:20260424T232036Z
SUMMARY:Mini Minyan
DESCRIPTION:Shaw JCC of Akron\nCalendar\nhttps://shawjcc.org/calendar/minim
 inyanjan-172551\n\nThis service is geared towards our youngest congregants
 . Begins at 10:15 and is open to the community.
DTSTART;TZID=America/New_York:20170107T101500
DTEND;TZID=America/New_York:20170107T111500
END:VEVENT
END:VCALENDAR
