BEGIN:VCALENDAR
PRODID:-//eluceo/ical//2.0/EN
VERSION:2.0
CALSCALE:GREGORIAN
BEGIN:VEVENT
UID:f0c9d800fbde063610312c35436a7d99
DTSTAMP:20260425T122745Z
SUMMARY:More than Just Mosaics
DESCRIPTION:Shaw JCC of Akron\nCalendar\nhttps://shawjcc.org/calendar/more-
 than-just-mosaics-1549466456-301073\n\nSince 2011\, Professor Jodi Magness
  has been directing excavations in the ancient village of Huqoq in Israel
 ’s Galilee. The excavations have brought to light the remains of a monum
 ental Late Roman (fifth century) synagogue building paved with stunning an
 d unique mosaics\, including biblical scenes and the first non–biblical 
 story ever discovered decorating an ancient synagogue. In this slide-illus
 trated lecture\, Professor Magness describes these exciting finds\, includ
 ing the discoveries mad...
DTSTART;TZID=America/New_York:20190211T100000
DTEND;TZID=America/New_York:20190211T110000
END:VEVENT
END:VCALENDAR
