BEGIN:VCALENDAR
PRODID:-//eluceo/ical//2.0/EN
VERSION:2.0
CALSCALE:GREGORIAN
BEGIN:VEVENT
UID:58dcfa1add48cf887c76b63946e4d0a8
DTSTAMP:20260425T110741Z
SUMMARY:Mother's Day Brunch
DESCRIPTION:Shaw JCC of Akron\nCalendar\nhttps://shawjcc.org/calendar/mothe
 rs-day-brunch-7-220010\n\nMother's Day Brunch at Temple
DTSTART;TZID=America/New_York:20170514T100000
DTEND;TZID=America/New_York:20170514T130000
END:VEVENT
END:VCALENDAR
