BEGIN:VCALENDAR
PRODID:-//eluceo/ical//2.0/EN
VERSION:2.0
CALSCALE:GREGORIAN
BEGIN:VEVENT
UID:8ed928e8ee12f535e51d160e7ac9bbdc
DTSTAMP:20260423T004258Z
SUMMARY:The Chosen People: A film about Jewish Identity Movie Screening
DESCRIPTION:Shaw JCC of Akron\nCalendar\nhttps://shawjcc.org/calendar/movie
 -screening-1506359580-247592\n\nThe Chosen People: A film about Jewish Id
 entity by Joshua Gippin 
DTSTART;TZID=America/New_York:20171008T140000
DTEND;TZID=America/New_York:20171008T160000
END:VEVENT
END:VCALENDAR
