BEGIN:VCALENDAR
PRODID:-//eluceo/ical//2.0/EN
VERSION:2.0
CALSCALE:GREGORIAN
BEGIN:VEVENT
UID:1c71b6819ea845fc775d3d1327a90c48
DTSTAMP:20260423T205529Z
SUMMARY:Multi-Age Classrooms
DESCRIPTION:Shaw JCC of Akron\nCalendar\nhttps://shawjcc.org/calendar/multi
 -age-classrooms-334454\n\nPlease join us on Wednesday\,  December 18th fr
 om 5:30-6:00 pm in the Woll Family Center at The Lippman School\n\nThis di
 scussion is  for TK-Kindergarten Parents.\n\nPlease RSVP to Debbie Zelin 
 at dzelin@thelippmanschool.org\n\n 
DTSTART;TZID=America/New_York:20191218T173000
DTEND;TZID=America/New_York:20191218T180000
END:VEVENT
END:VCALENDAR
