BEGIN:VCALENDAR
PRODID:-//eluceo/ical//2.0/EN
VERSION:2.0
CALSCALE:GREGORIAN
BEGIN:VEVENT
UID:fb468f6f4670880da1aae06d5b94da9e
DTSTAMP:20260422T141032Z
SUMMARY:Muslim-Jewish Dialogue at KSU
DESCRIPTION:Shaw JCC of Akron\nCalendar\nhttps://shawjcc.org/calendar/musli
 m-jewish-dialogue--ksu-1554744789-307124\n\nJoin Temple Israel and the Isl
 amic Center of Akron and Kent for a night of solidarity and discussion at 
 Kent State University.
DTSTART;TZID=America/New_York:20190918T183000
DTEND;TZID=America/New_York:20190918T203000
END:VEVENT
END:VCALENDAR
