BEGIN:VCALENDAR
PRODID:-//eluceo/ical//2.0/EN
VERSION:2.0
CALSCALE:GREGORIAN
BEGIN:VEVENT
UID:6e59a15e178b5936a161b0f05a424717
DTSTAMP:20260423T183750Z
SUMMARY:Na'amat Donor Dinner
DESCRIPTION:Shaw JCC of Akron\nCalendar\nhttps://shawjcc.org/calendar/naama
 t--donor-diinner-1567454952-324090\n\nProgram and location tbd within the 
 week
DTSTART;TZID=America/New_York:20191023T180000
DTEND;TZID=America/New_York:20191023T210000
END:VEVENT
END:VCALENDAR
