BEGIN:VCALENDAR
PRODID:-//eluceo/ical//2.0/EN
VERSION:2.0
CALSCALE:GREGORIAN
BEGIN:VEVENT
UID:b6c3bc40431db5048f612cf9656cd1d0
DTSTAMP:20260421T120122Z
SUMMARY:Na'Amat Donor
DESCRIPTION:Shaw JCC of Akron\nCalendar\nhttps://shawjcc.org/calendar/naama
 t-donor-1501531830-241022\n\nDonor Brunch beginning at 11:30 AM.
DTSTART;TZID=America/New_York:20171015T113000
DTEND;TZID=America/New_York:20171015T143000
END:VEVENT
END:VCALENDAR
