BEGIN:VCALENDAR
PRODID:-//eluceo/ical//2.0/EN
VERSION:2.0
CALSCALE:GREGORIAN
BEGIN:VEVENT
UID:912157221cdff328a07126daaca32b21
DTSTAMP:20260422T080139Z
SUMMARY:Na'Amat Spring Style Show
DESCRIPTION:Shaw JCC of Akron\nCalendar\nhttps://shawjcc.org/calendar/naama
 t-spring-style-show-1577066628-337641\n\nSpring Style Show with Fashions b
 y Cynthia
DTSTART;TZID=America/New_York:20200514T180000
DTEND;TZID=America/New_York:20200515T000000
END:VEVENT
END:VCALENDAR
