BEGIN:VCALENDAR
PRODID:-//eluceo/ical//2.0/EN
VERSION:2.0
CALSCALE:GREGORIAN
BEGIN:VEVENT
UID:c53fe79a2544d6b8f56aaf76e2cd912b
DTSTAMP:20260423T025551Z
SUMMARY:NA'AMAT USA - AMAT Annual Chanukah Party
DESCRIPTION:Shaw JCC of Akron\nCalendar\nhttps://shawjcc.org/calendar/naama
 t-usa-amat-annual-chanukah-party-289511\n\nNA'AMAT USA - AMAT CHAPTER  wi
 ll be holding its annual Chanukah party on Thursday\, Nov. 29 at 6 p.m. 
 at Bricco's in the Doubletree Hotel .Each person will order from the regul
 ar menu.\n\nIn addition to dinner\, and a shorter and livelier gift exchan
 ge\, we will have the pleasure of hearing Irv Korman speak about his newly
  published book\,  "The Legend of Hanukkah Harry." Chairwomen for this e
 vent are Wendy Cooley and Francine Korman.\n\nPlease RSVP by Nov. 20 to 
 Francine at irman3@aol.co...
DTSTART;TZID=America/New_York:20181129T180000
DTEND;TZID=America/New_York:20181129T210000
END:VEVENT
END:VCALENDAR
