BEGIN:VCALENDAR
PRODID:-//eluceo/ical//2.0/EN
VERSION:2.0
CALSCALE:GREGORIAN
BEGIN:VEVENT
UID:037bd8f67608a5c7685dc1624d6b8ff4
DTSTAMP:20260421T133837Z
SUMMARY:Nicki Barrett Wedding
DESCRIPTION:Shaw JCC of Akron\nCalendar\nhttps://shawjcc.org/calendar/nicki
 -barrett-wedding-216611\n\nWedding of Nicki Barrett and Simon ?.
DTSTART;TZID=America/New_York:20180527T130000
DTEND;TZID=America/New_York:20180527T140000
END:VEVENT
END:VCALENDAR
