BEGIN:VCALENDAR
PRODID:-//eluceo/ical//2.0/EN
VERSION:2.0
CALSCALE:GREGORIAN
BEGIN:VEVENT
UID:2b050f797755768d5470d5451e6562a3
DTSTAMP:20260423T183419Z
SUMMARY:Nightingale Opera
DESCRIPTION:Shaw JCC of Akron\nCalendar\nhttps://shawjcc.org/calendar/night
 ingale-opera-1587740584-350128\n\nFree concert
DTSTART;TZID=America/New_York:20200706T190000
DTEND;TZID=America/New_York:20200706T210000
END:VEVENT
END:VCALENDAR
