BEGIN:VCALENDAR
PRODID:-//eluceo/ical//2.0/EN
VERSION:2.0
CALSCALE:GREGORIAN
BEGIN:VEVENT
UID:45db66487beaf21c202c22f199a898e5
DTSTAMP:20260424T133841Z
SUMMARY:October 7th Memorial Event
DESCRIPTION:Shaw JCC of Akron\nCalendar\nhttps://shawjcc.org/calendar/octob
 er-7th-memorial-event-1721826606-472526\n\nJewishAkron/Community Oct. 7th 
 Memorial Event
DTSTART;TZID=America/New_York:20241008T190000
DTEND;TZID=America/New_York:20241008T210000
END:VEVENT
END:VCALENDAR
