BEGIN:VCALENDAR
PRODID:-//eluceo/ical//2.0/EN
VERSION:2.0
CALSCALE:GREGORIAN
BEGIN:VEVENT
UID:e1145b94fc65954eecd35cb9494dfaed
DTSTAMP:20260425T162247Z
SUMMARY:Oded Rahav\, Dead Sea Gaurdians
DESCRIPTION:Shaw JCC of Akron\nCalendar\nhttps://shawjcc.org/calendar/oded-
 rahav-dead-sea-gaurdians-1672865535-427318\n\nIsrael at 75 Presentation of
  Dead Sea Environmental Activist Oded Rahav.
DTSTART;TZID=America/New_York:20230131T190000
DTEND;TZID=America/New_York:20230131T201500
END:VEVENT
END:VCALENDAR
