BEGIN:VCALENDAR
PRODID:-//eluceo/ical//2.0/EN
VERSION:2.0
CALSCALE:GREGORIAN
BEGIN:VEVENT
UID:a751b8ebd196fd4beec04ec876992ae4
DTSTAMP:20260422T040735Z
SUMMARY:ONR BBYO's Fall Kickoff Block Party
DESCRIPTION:Shaw JCC of Akron\nCalendar\nhttps://shawjcc.org/calendar/onr-b
 byos-fall-kickoff-block-party-324912\n\nONR BBYO’s Fall Kickoff Block Pa
 rty\n\nSaturday\, Sept. 14\, 2019 7-9pm\n\n26001 South Woodland Road\, Bea
 chwood\, OH\n\nOpen to ALL Jewish teens in grades 8-12. You do not need to
  be a member of BBYO to attend.  Transportation provided from the Shaw JC
 C. For more information or to become a member of the Ohio Northern Region\
 , contact Ashley Garson agarson@shawjcc.org or visit www.shawjcc.org/k-12/
 akron-bbyo.
DTSTART;TZID=America/New_York:20190914T190000
DTEND;TZID=America/New_York:20190914T210000
END:VEVENT
END:VCALENDAR
