BEGIN:VCALENDAR
PRODID:-//eluceo/ical//2.0/EN
VERSION:2.0
CALSCALE:GREGORIAN
BEGIN:VEVENT
UID:cd4633c58df4678d942cbf4f74d30fcd
DTSTAMP:20260422T221225Z
SUMMARY:Open D'Or - Jewish Leadership Networking Event
DESCRIPTION:Shaw JCC of Akron\nCalendar\nhttps://shawjcc.org/calendar/open-
 dor-299806\n\nWant to get involved but don't know how? Currently involved 
 and looking for new leaders? Just looking to make some new friends in the 
 community? Open D'Or is a new event designed to further the creation and d
 evelopment of relationships between emerging and experienced leaders in th
 e Akron Jewish community.\n\nFacilitated by Leslie Ungar\, President\, Ele
 ctric Impulse Communications\n\n\nMake new connections and discover common
  interests and goals. Open D'Or is like speed dating for networking...
DTSTART;TZID=America/New_York:20190307T170000
DTEND;TZID=America/New_York:20190307T190000
END:VEVENT
END:VCALENDAR
