BEGIN:VCALENDAR
PRODID:-//eluceo/ical//2.0/EN
VERSION:2.0
CALSCALE:GREGORIAN
BEGIN:VEVENT
UID:ba2299bfba7d5bf49625c7606b2e87ee
DTSTAMP:20260424T200457Z
SUMMARY:Paint Date
DESCRIPTION:Shaw JCC of Akron\nCalendar\nhttps://shawjcc.org/calendar/paint
 -date-1506365571-247642\n\nBring your friends to a colorful night of makin
 g Israeli art. No talent required! This program includes beer\, soft drink
 s and snacks. $10. Ages 21+. 
DTSTART;TZID=America/New_York:20171114T190000
DTEND;TZID=America/New_York:20171114T220000
END:VEVENT
END:VCALENDAR
