BEGIN:VCALENDAR
PRODID:-//eluceo/ical//2.0/EN
VERSION:2.0
CALSCALE:GREGORIAN
BEGIN:VEVENT
UID:f2cd372804797bce2ea96dde8abfb1f3
DTSTAMP:20260420T114014Z
SUMMARY:Parents' Night Out
DESCRIPTION:Shaw JCC of Akron\nCalendar\nhttps://shawjcc.org/calendar/paren
 ts-night-outfeb2020\n\nParents\, take a break and send your kids (ages 4-1
 2) for a Saturday night out at The J and don’t forget to wear your favor
 ite PJs! \n\nChildren can look forward to:\n\n\nFun crafts\nCooking\nSpor
 ts\nSpecial programs\nGames\nPizza & veggie dinner\nwatching a movie on th
 e big screen\n\n\nSat.\, Feb. 15\, 5:30-9:30 p.m.\n\nCost: $25/M $35 G (al
 l siblings $18)\n\n200.PNOO215
DTSTART;TZID=America/New_York:20200215T173000
DTEND;TZID=America/New_York:20200215T213000
END:VEVENT
END:VCALENDAR
