BEGIN:VCALENDAR
PRODID:-//eluceo/ical//2.0/EN
VERSION:2.0
CALSCALE:GREGORIAN
BEGIN:VEVENT
UID:926a7c8726367d7bc0ba87e2a4bab43e
DTSTAMP:20260420T135024Z
SUMMARY:Passover Community 1sd Seder at Anshe Sfard
DESCRIPTION:Shaw JCC of Akron\nCalendar\nhttps://shawjcc.org/calendar/passo
 ver-community-1sd-seder-at-anshe-sfard-1689777399-443424\n\n1st Seder for 
 Pesach at Anshe Sfard
DTSTART;TZID=America/New_York:20240422T183000
DTEND;TZID=America/New_York:20240422T213000
END:VEVENT
END:VCALENDAR
