BEGIN:VCALENDAR
PRODID:-//eluceo/ical//2.0/EN
VERSION:2.0
CALSCALE:GREGORIAN
BEGIN:VEVENT
UID:663bdb12ac4d3a31d28d3c2565f9d670
DTSTAMP:20260423T004438Z
SUMMARY:Pink & Teal Shabbat
DESCRIPTION:Shaw JCC of Akron\nCalendar\nhttps://shawjcc.org/calendar/pink-
 -teal-shabbat-1772649743-512456\n\nJoin us for a meaningful Pink &Teal Sha
 bbat Service in partnership with the Jewish nonprofit\, Sharsheret.\nWe wi
 ll be raising awareness about Breast & Ovarian Cancer in our community.\nS
 harsheret\, a Jewish not-for-profit organization\, provides personalized s
 upport\, lifesaving education\, financial assistance and genetic counselin
 g to empower those faced with or at increased genetic risk of breast cance
 r and ovarian cancer.
DTSTART;TZID=America/New_York:20261030T180000
DTEND;TZID=America/New_York:20261030T200000
END:VEVENT
END:VCALENDAR
