BEGIN:VCALENDAR
PRODID:-//eluceo/ical//2.0/EN
VERSION:2.0
CALSCALE:GREGORIAN
BEGIN:VEVENT
UID:47f19b299afc81710d6111e12829a345
DTSTAMP:20260420T103902Z
SUMMARY:PJ Chanukkah Zoom Candle Lighting
DESCRIPTION:Shaw JCC of Akron\nCalendar\nhttps://shawjcc.org/calendar/pj-ch
 anukkah-zoom-candle-lighting-1635880827-393132\n\nPJ Chanukkah Zoom Candle
  Lighting
DTSTART;TZID=America/New_York:20211130T190000
DTEND;TZID=America/New_York:20211130T193000
END:VEVENT
END:VCALENDAR
