BEGIN:VCALENDAR
PRODID:-//eluceo/ical//2.0/EN
VERSION:2.0
CALSCALE:GREGORIAN
BEGIN:VEVENT
UID:a5b3bfab108881876f4cee0aba2596e2
DTSTAMP:20260423T003944Z
SUMMARY:PJ Does Shabbat
DESCRIPTION:Shaw JCC of Akron\nCalendar\nhttps://shawjcc.org/calendar/pj-do
 es-shabbat-1638986319-395283\n\nPJ Does Shabbat
DTSTART;TZID=America/New_York:20220107T173000
DTEND;TZID=America/New_York:20220107T180000
END:VEVENT
END:VCALENDAR
