BEGIN:VCALENDAR
PRODID:-//eluceo/ical//2.0/EN
VERSION:2.0
CALSCALE:GREGORIAN
BEGIN:VEVENT
UID:ac7215350a49461affd5538a7331cdc9
DTSTAMP:20260426T024002Z
SUMMARY:PJ Library at Brookdale Montrose
DESCRIPTION:Shaw JCC of Akron\nCalendar\nhttps://shawjcc.org/calendar/pj-li
 brary-at-brookdale-montrose-1550246995-301982\n\nPJ Library at Brookdale a
 t Montrose
DTSTART;TZID=America/New_York:20190310T133000
DTEND;TZID=America/New_York:20190310T150000
END:VEVENT
END:VCALENDAR
