BEGIN:VCALENDAR
PRODID:-//eluceo/ical//2.0/EN
VERSION:2.0
CALSCALE:GREGORIAN
BEGIN:VEVENT
UID:a022874cbe4a07dd7940651b9c24339a
DTSTAMP:20260424T012016Z
SUMMARY:PJ Library Baby & Toddler
DESCRIPTION:Shaw JCC of Akron\nCalendar\nhttps://shawjcc.org/calendar/pj-li
 brary-baby--toddler-1550778049-302535\n\nPJ library play group
DTSTART;TZID=America/New_York:20190317T100000
DTEND;TZID=America/New_York:20190317T110000
END:VEVENT
END:VCALENDAR
