BEGIN:VCALENDAR
PRODID:-//eluceo/ical//2.0/EN
VERSION:2.0
CALSCALE:GREGORIAN
BEGIN:VEVENT
UID:911ac4983acc7fb711cf9cf14090d251
DTSTAMP:20260420T090028Z
SUMMARY:PJ Library Baby & Toddler
DESCRIPTION:Shaw JCC of Akron\nCalendar\nhttps://shawjcc.org/calendar/pj-li
 brary-baby--toddler-1555358748-307707\n\nPJ Library playgroup
DTSTART;TZID=America/New_York:20190505T100000
DTEND;TZID=America/New_York:20190505T110000
END:VEVENT
END:VCALENDAR
