BEGIN:VCALENDAR
PRODID:-//eluceo/ical//2.0/EN
VERSION:2.0
CALSCALE:GREGORIAN
BEGIN:VEVENT
UID:8cd9d8fdb63d1f7625b7b4269c3fe913
DTSTAMP:20260421T113518Z
SUMMARY:PJ Library Baby & Toddler Get-Together
DESCRIPTION:Shaw JCC of Akron\nCalendar\nhttps://shawjcc.org/calendar/pj-li
 brary-baby--toddler-get-together-1536177076-286280\n\nPJ library playgroup
  for children ages birth to 24 months. Please contact Julie Katz for more 
 information.
DTSTART;TZID=America/New_York:20181111T110000
DTEND;TZID=America/New_York:20181112T120000
END:VEVENT
END:VCALENDAR
