BEGIN:VCALENDAR
PRODID:-//eluceo/ical//2.0/EN
VERSION:2.0
CALSCALE:GREGORIAN
BEGIN:VEVENT
UID:e746a89db2a35de026fa7e0a0ad159a6
DTSTAMP:20260425T215137Z
SUMMARY:PJ Library Shabbat
DESCRIPTION:Shaw JCC of Akron\nCalendar\nhttps://shawjcc.org/calendar/pj-li
 brary-shabbat-413559\n\n.
DTSTART;TZID=America/New_York:20220819T170000
DTEND;TZID=America/New_York:20220819T193000
END:VEVENT
END:VCALENDAR
