BEGIN:VCALENDAR
PRODID:-//eluceo/ical//2.0/EN
VERSION:2.0
CALSCALE:GREGORIAN
BEGIN:VEVENT
UID:062736e262a13d31289dafc28930f130
DTSTAMP:20260423T061010Z
SUMMARY:PJ Shabbat
DESCRIPTION:Shaw JCC of Akron\nCalendar\nhttps://shawjcc.org/calendar/pj-sh
 abbat-1635790593-393015\n\nPJ Shabbat
DTSTART;TZID=America/New_York:20211210T173000
DTEND;TZID=America/New_York:20211210T183000
END:VEVENT
END:VCALENDAR
